BEGIN:VCALENDAR
VERSION:2.0
PRODID:-//Plone.org//NONSGML plone.app.event//EN
X-WR-TIMEZONE:US/Central
BEGIN:VEVENT
SUMMARY:Game On - Crocker Library
DTSTART;TZID=US/Central:20240104T153000
DTEND;TZID=US/Central:20240104T163000
DTSTAMP:20260419T123347Z
UID:a6fcf7af43c34b3eac3903f189fa7cf8@saas_stack_varnish:6080
RRULE:FREQ=WEEKLY;UNTIL=20250531T000000
EXDATE;TZID=US/Central:20241128T000000
CATEGORIES:crocker library
CREATED:20230303T151152Z
DESCRIPTION:Students are welcome to come play games at the Crocker Library
 !
LAST-MODIFIED:20251031T184639Z
LOCATION:Crocker Library
URL:https://www.pulaskicounty.lib.mo.us/calendar-news/events/game-on
END:VEVENT
BEGIN:VTIMEZONE
TZID:US/Central
X-LIC-LOCATION:US/Central
BEGIN:STANDARD
DTSTART:20231105T010000
TZNAME:CST
TZOFFSETFROM:-0500
TZOFFSETTO:-0600
END:STANDARD
END:VTIMEZONE
END:VCALENDAR
