BEGIN:VCALENDAR
VERSION:2.0
PRODID:-//Plone.org//NONSGML plone.app.event//EN
X-WR-TIMEZONE:US/Central
BEGIN:VEVENT
SUMMARY:Board of Trustees Meeting - PCLD Admin Office
DTSTART;TZID=US/Central:20260319T163000
DTEND;TZID=US/Central:20260319T173000
DTSTAMP:20260419T123631Z
UID:ef7fbb6e218341d49b5ee2eb45f72b85@saas_stack_varnish:6080
CATEGORIES:crocker library
CONTACT:573-774-5026
CREATED:20230313T145450Z
LAST-MODIFIED:20260319T194419Z
LOCATION:PCLD Admin Office
URL:https://www.pulaskicounty.lib.mo.us/calendar-news/events/board-of-trus
 tees-meeting
END:VEVENT
BEGIN:VTIMEZONE
TZID:US/Central
X-LIC-LOCATION:US/Central
BEGIN:DAYLIGHT
DTSTART:20260308T030000
TZNAME:CDT
TZOFFSETFROM:-0600
TZOFFSETTO:-0500
END:DAYLIGHT
END:VTIMEZONE
END:VCALENDAR
